BEGIN:VCALENDAR
VERSION:2.0
PRODID:-//wp-events-plugin.com//7.2.3.1//EN
TZID:Europe/Berlin
X-WR-TIMEZONE:Europe/Berlin
BEGIN:VEVENT
UID:76@peerhelper.de
DTSTART;TZID=Europe/Berlin:20250918T100000
DTEND;TZID=Europe/Berlin:20250918T140000
DTSTAMP:20250718T064133Z
URL:https://peerhelper.de/events/peer-helper-kooperationstag-gemeinsamer-a
 ustausch-mit-partnern-anderer-formen-der-ausbildung-von-peers-jugendgruppe
 nleitungen/
SUMMARY:Fachtag: "Dialog Junges Ehrenamt"  - " Zugangsbarrieren erkennen un
 d abbauen
DESCRIPTION:\n\n\n\n\n\n\nLiebe Kolleg*innen und Interessierte\,\n\n&nbsp\;
 \n\nwir laden alle Neuköllner Fachkräfte aus der Kinder- und Jugend(sozi
 al)Arbeit sowie Jugendverbandsarbeit\, die mit jungen Ehrenamtlichen (z.B.
  Peer Helper*innen\, Peer-Educator:innen\, Juniorcoaches\, Jugendgruppenle
 itungen aller Art\, Freiwilligendienst u.a.) zusammen arbeiten\, sie ausbi
 lden und begleiten\, herzlich zu unserem nächsten Fachtag aus der Reihe "
 Dialog junges Ehrenamt" ein.\n\n&nbsp\;\n\nDie Daten zum Fachtag:\n\nDatum
 : 18.09.2025\n\nZeit: 10:00 – 14:00 Uhr\n\nOrt: Nachbarschaftshaus am K
 örnerpark\, Schierker Str. 53\, 12051 Berlin\n\n&nbsp\;\n\nGeplant sind:\
 n\n&nbsp\;\n\n1.) Kurzer Rückblick auf das Austauschtreffen 2024 (Ausbild
 ung junger Ehrenamtlicher):\n\n- Was waren die Gemeinsamkeiten und Untersc
 hiede?\n\n- Offene Fragen und Ideen zur Weiterarbeit\n\n- Stand Aufwandsen
 tschädigungen\n\n&nbsp\;\n\n2.) Input:  NEZ Neuköllner Engagementzentru
 m\n\nThema: Zugangsbarrieren für junges Ehrenamt:\n\nErgebnisse und Erken
 ntnisse aus dem vierten Engagementbericht des Bundesministeriums für Fami
 lie und Jugend (Dezember 2024) mit Fokus auf die Zielgruppe Jugendliche\n\
 nhttps://www.bmfsfj.de/bmfsfj/service/publikationen/vierter-engagementberi
 cht-253738\n\n&nbsp\;\n\nDer Bericht beschreibt dreizehn als Zugangshürde
 n wirkende "Schwellen" zum freiwilligen Engagement und zeigt auf\, dass di
 e Zugangschancen ungleich verteilt sind.\n\n&nbsp\;\n\n3.) In der Gruppena
 rbeit möchten wir uns gemeinsam mit Euch über Vielfalt der jungen Ehrena
 mt-Teams in unseren Einrichtungen\, Verbänden und Projekten austauschen. 
 Auch möchten wir mit euch die Zugänge junger Ehrenamtliche in den Blick 
 nehmen sowie Strategien für eine (noch) stärkere Vielfältigkeit bzw. Re
 präsentanz der Gruppen erarbeiten.\n\n&nbsp\;\n\nWir freuen uns auf einen
  inspirierenden Austausch!\n\n&nbsp\;\n\nBitte merkt euch das Datum vor 
 – eine Einladung mit finalen Informationen zum Ablauf folgt.\n\n&nbsp\;\
 n\nHerzliche Grüße\n\n&nbsp\;\n\nChristian Hörr + Fachsteuerung Jugend-
  und Familienförderung\n\n&nbsp\;\n\n&nbsp\;\n\nChristian Hörr\n\nHausle
 itung\n\nKoordination Peer Helper Netzwerk Neukölln\n\n&nbsp\;\n\nNachbar
 schaftshaus am Körnerpark\n\nSchierker Str. 53a\n\n12051 Berlin\n\n&nbsp\
 ;\n\nTelefon: 030 / 325 060 20\n\nE-Mail: c.hoerr@nbh-neukoelln.de\n\nwww.
 nbh-neukoelln.de/nachbarschaftshaus-am-koernerpark\n\nwww.peerhelper.de
CATEGORIES:AG Peer Helper
END:VEVENT
BEGIN:VTIMEZONE
TZID:Europe/Berlin
X-LIC-LOCATION:Europe/Berlin
BEGIN:DAYLIGHT
DTSTART:20250330T030000
TZOFFSETFROM:+0100
TZOFFSETTO:+0200
TZNAME:CEST
END:DAYLIGHT
END:VTIMEZONE
END:VCALENDAR